BEGIN:VCALENDAR
VERSION:2.0
PRODID:-//eventon.com NONSGML v1.0//EN
BEGIN:VEVENT
UID:69eb352258a6b
DTSTAMP:20260424T051722
DTSTART:20260424T000000Z
DTEND:20260424T030000Z
LOCATION:
SUMMARY:NFL Draft Watch Party | Rahway Location
DESCRIPTION: NFL Draft Watch Party at Sticks Cigars Rahway Join us for an unforgettable night as we kick off the 2026 NFL Draft in style! Gather with fellow football fans\,  premium cigars\,  and all the excitement of draft night. Whether you're rooting for your hometown team or keeping an eye on[..]
END:VEVENT
END:VCALENDAR