BEGIN:VCALENDAR
VERSION:2.0
PRODID:-//eventon.com NONSGML v1.0//EN
BEGIN:VEVENT
UID:69e9f05e612be
DTSTAMP:20260423T061142
DTSTART:20241116T000000Z
DTEND:20241116T030000Z
LOCATION:
SUMMARY:PAUL vs. TYSON Both Locations
DESCRIPTION: FRIDAY NOVEMBER 15TH 2024 8PM PAUL vs. TYSON 2 CIGAR MINIMUM
END:VEVENT
END:VCALENDAR