BEGIN:VCALENDAR
VERSION:2.0
PRODID:-//eventon.com NONSGML v1.0//EN
BEGIN:VEVENT
UID:69e9db512206e
DTSTAMP:20260423T044153
DTSTART:20231225T210000Z
DTEND:20231226T030000Z
LOCATION:
SUMMARY:Christmas Day Hours Rahway Opens 5pm Somerville Closed
DESCRIPTION: Christmas Day Hours Rahway Opens 5pm Somerville Closed
END:VEVENT
END:VCALENDAR