BEGIN:VCALENDAR
VERSION:2.0
PRODID:-//eventon.com NONSGML v1.0//EN
BEGIN:VEVENT
UID:69ed83c240032
DTSTAMP:20260425T231722
DTSTART:20211112T230000Z
DTEND:20211113T030000Z
LOCATION:
SUMMARY:Smoke & Sounds
DESCRIPTION: Friday\,  November 12\,  2021 7pm Smoke & Sounds Music by: Sergio Afonso 2 Cigar Minimum
END:VEVENT
END:VCALENDAR