BEGIN:VCALENDAR
VERSION:2.0
PRODID:-//eventon.com NONSGML v1.0//EN
BEGIN:VEVENT
UID:69e9de15571a1
DTSTAMP:20260423T045341
DTSTART:20210519T220000Z
DTEND:20210520T020000Z
LOCATION:
SUMMARY:Cigars Under the Stars
DESCRIPTION: Wednesday May 19th\,  2021 6pm Noah Restaurant 14 Julian Place Elizabeth\,  NJ 07208
END:VEVENT
END:VCALENDAR